BEGIN:VCALENDAR
VERSION:2.0
PRODID:-//Gemenskap i Kristet Liv - ECPv6.15.20//NONSGML v1.0//EN
CALSCALE:GREGORIAN
METHOD:PUBLISH
X-ORIGINAL-URL:https://gemenskap.se
X-WR-CALDESC:Händelser för Gemenskap i Kristet Liv
REFRESH-INTERVAL;VALUE=DURATION:PT1H
X-Robots-Tag:noindex
X-PUBLISHED-TTL:PT1H
BEGIN:VTIMEZONE
TZID:UTC
BEGIN:STANDARD
TZOFFSETFROM:+0000
TZOFFSETTO:+0000
TZNAME:UTC
DTSTART:20250101T000000
END:STANDARD
END:VTIMEZONE
BEGIN:VEVENT
DTSTART;TZID=UTC:20260325T190000
DTEND;TZID=UTC:20260325T203000
DTSTAMP:20260421T133359
CREATED:20260110T082001Z
LAST-MODIFIED:20260110T082001Z
UID:25226-1774465200-1774470600@gemenskap.se
SUMMARY:Var är ljuset i ditt liv?
DESCRIPTION:Se inbjudan: \nInbjudan till öppen GKL-träff för nyfikna
URL:https://gemenskap.se/event/var-ar-ljuset-i-ditt-liv-5/
LOCATION:Engelsbrektskyrkan\, Östermalmsgatan 20
END:VEVENT
BEGIN:VEVENT
DTSTART;TZID=UTC:20260328T150000
DTEND;TZID=UTC:20260328T170000
DTSTAMP:20260421T133359
CREATED:20251207T173001Z
LAST-MODIFIED:20260314T184943Z
UID:25192-1774710000-1774717200@gemenskap.se
SUMMARY:GKL dagen
DESCRIPTION:Se: https://gemenskap.se/gkl-dagen-2026/
URL:https://gemenskap.se/event/gkl-dagen-2/
LOCATION:Josefinahemmet
END:VEVENT
BEGIN:VEVENT
DTSTART;TZID=UTC:20260331T183000
DTEND;TZID=UTC:20260331T203000
DTSTAMP:20260421T133359
CREATED:20251128T130851Z
LAST-MODIFIED:20251128T130851Z
UID:25185-1774981800-1774989000@gemenskap.se
SUMMARY:GKL styrelsemöte
DESCRIPTION:
URL:https://gemenskap.se/event/gkl-styrelsemote-2/
END:VEVENT
END:VCALENDAR