BEGIN:VCALENDAR
VERSION:2.0
PRODID:-//Gemenskap i Kristet Liv - ECPv6.15.20//NONSGML v1.0//EN
CALSCALE:GREGORIAN
METHOD:PUBLISH
X-ORIGINAL-URL:https://gemenskap.se
X-WR-CALDESC:Händelser för Gemenskap i Kristet Liv
REFRESH-INTERVAL;VALUE=DURATION:PT1H
X-Robots-Tag:noindex
X-PUBLISHED-TTL:PT1H
BEGIN:VTIMEZONE
TZID:UTC
BEGIN:STANDARD
TZOFFSETFROM:+0000
TZOFFSETTO:+0000
TZNAME:UTC
DTSTART:20250101T000000
END:STANDARD
END:VTIMEZONE
BEGIN:VEVENT
DTSTART;TZID=UTC:20260211T190000
DTEND;TZID=UTC:20260211T203000
DTSTAMP:20260421T151610
CREATED:20260110T081912Z
LAST-MODIFIED:20260110T081912Z
UID:25224-1770836400-1770841800@gemenskap.se
SUMMARY:Var är ljuset i ditt liv?
DESCRIPTION:Se inbjudan: \nInbjudan till öppen GKL-träff för nyfikna
URL:https://gemenskap.se/event/var-ar-ljuset-i-ditt-liv-4/
LOCATION:Engelsbrektskyrkan\, Östermalmsgatan 20
END:VEVENT
BEGIN:VEVENT
DTSTART;TZID=UTC:20260226T183000
DTEND;TZID=UTC:20260226T203000
DTSTAMP:20260421T151610
CREATED:20251128T130604Z
LAST-MODIFIED:20251128T130604Z
UID:25181-1772130600-1772137800@gemenskap.se
SUMMARY:GKL styrelse möte
DESCRIPTION:
URL:https://gemenskap.se/event/gkl-styrelse-mote-4/
END:VEVENT
END:VCALENDAR