BEGIN:VCALENDAR
VERSION:2.0
PRODID:-//Gemenskap i Kristet Liv - ECPv6.15.20//NONSGML v1.0//EN
CALSCALE:GREGORIAN
METHOD:PUBLISH
X-ORIGINAL-URL:https://gemenskap.se
X-WR-CALDESC:Händelser för Gemenskap i Kristet Liv
REFRESH-INTERVAL;VALUE=DURATION:PT1H
X-Robots-Tag:noindex
X-PUBLISHED-TTL:PT1H
BEGIN:VTIMEZONE
TZID:UTC
BEGIN:STANDARD
TZOFFSETFROM:+0000
TZOFFSETTO:+0000
TZNAME:UTC
DTSTART:20240101T000000
END:STANDARD
END:VTIMEZONE
BEGIN:VEVENT
DTSTART;TZID=UTC:20250322T154500
DTEND;TZID=UTC:20250322T164500
DTSTAMP:20260422T083331
CREATED:20250310T133405Z
LAST-MODIFIED:20250310T133721Z
UID:24775-1742658300-1742661900@gemenskap.se
SUMMARY:World CLC day 2025
DESCRIPTION:  \nCLC Youtube channel: https://www.youtube.com/@cvxclc7673/videos \nRegistrate at: registrations@clc-cvx.eu
URL:https://gemenskap.se/event/world-clc-day-2025/
LOCATION:Zoom
END:VEVENT
BEGIN:VEVENT
DTSTART;TZID=UTC:20250325T150000
DTEND;TZID=UTC:20250325T160000
DTSTAMP:20260422T083331
CREATED:20250215T142557Z
LAST-MODIFIED:20250215T142857Z
UID:24757-1742914800-1742918400@gemenskap.se
SUMMARY:CLC day
DESCRIPTION:Dear friends:\n\nOn March 25th\, the feast of the Annunciation\, CLC celebrates its day every year. As we have been doing in recent years\, we want to unite as a world community and celebrate and pray together on our day. We invite you to meet us on Saturday 22nd March at 15:00 CET (Central European Time) (duration 40 minutes).\n\nThis year\, the prayer has been prepared by the CLC communities in North America Region. We thank them for their generosity and their time to help us join in prayer.\n\nThe prayer will be available in the three official languages of CLC and can be followed at the CLC Youtube Channel:  https://www.youtube.com/@cvxclc7673/videos\n\nIn the days leading up to our community prayer we will share with you the details so that you can prepare and live it in community.\n\nWe ask you to extend this invitation to the entire community in your country through social media and email.\n\nUnited in prayer\,
URL:https://gemenskap.se/event/clc-day/
END:VEVENT
BEGIN:VEVENT
DTSTART;TZID=UTC:20250328T080000
DTEND;TZID=UTC:20250330T170000
DTSTAMP:20260422T083331
CREATED:20241219T110019Z
LAST-MODIFIED:20241219T110019Z
UID:24702-1743148800-1743354000@gemenskap.se
SUMMARY:Kurs "Hur kan jag möta det andliga livets upp- och nergångar?"
DESCRIPTION:Hur kan jag möta det andliga livets upp- och nedgångar? – Katolska Pedagogiska Nämnden
URL:https://gemenskap.se/event/kurs-hur-kan-jag-mota-det-andliga-livets-upp-och-nergangar/
END:VEVENT
BEGIN:VEVENT
DTSTART;TZID=UTC:20250329T153000
DTEND;TZID=UTC:20250329T180000
DTSTAMP:20260422T083331
CREATED:20250215T140933Z
LAST-MODIFIED:20250215T140933Z
UID:24748-1743262200-1743271200@gemenskap.se
SUMMARY:GKL dagen
DESCRIPTION:VARMT VÄLKOMMEN TILL GKL-DAGEN 29 MARS KL 15.30 \nKära GKL-vänner! \nVälkomna till att fira GKL-dagen tillsammans med oss i GKL Sverige. \nVi firar GKL-dagen också tillsammans med hela det världsvida GKL-nätverket och alla andra GKL-organisationer i andra länder. \nTid: 29 mars kl 15.30\nPlats: Sankta Eugenia församling \nVi börjar med mässa i Sankta Eugenia.\nDärefter blir det knytkalas och samvaro i Stora salen.\nTa med något ätbart! (Så mycket som du tror att du själv skulle äta.) \nFörra GKL-dagen för ett år sedan var ett fint firande av vår gemenskap. \nDet var också flera som förra året avlade en avsiktsförklaring\, både tidsbegränsad och för livet\, om fortsatt engagemang i GKL. Det var en mycket fin ceremoni. Även i år finns möjlighet att i mässan avlägga en avgiftsförklaring. \nHar du själv tänkt på att avlägga en avsiktsförklaring eller har frågor om det så hör av dig till gkl@gemenskap.se \nKom och dela vår gemenskap den 29 mars kl 15.30 i Sankta Eugenia! \nVARMT VÄLKOMMEN!
URL:https://gemenskap.se/event/gkl-dagen/
LOCATION:Sankta Eugenia Församling\, Stockholm
END:VEVENT
END:VCALENDAR