BEGIN:VCALENDAR
VERSION:2.0
PRODID:-//Gemenskap i Kristet Liv - ECPv6.15.20//NONSGML v1.0//EN
CALSCALE:GREGORIAN
METHOD:PUBLISH
X-ORIGINAL-URL:https://gemenskap.se
X-WR-CALDESC:Händelser för Gemenskap i Kristet Liv
REFRESH-INTERVAL;VALUE=DURATION:PT1H
X-Robots-Tag:noindex
X-PUBLISHED-TTL:PT1H
BEGIN:VTIMEZONE
TZID:UTC
BEGIN:STANDARD
TZOFFSETFROM:+0000
TZOFFSETTO:+0000
TZNAME:UTC
DTSTART:20230101T000000
END:STANDARD
END:VTIMEZONE
BEGIN:VTIMEZONE
TZID:Europe/Paris
BEGIN:DAYLIGHT
TZOFFSETFROM:+0100
TZOFFSETTO:+0200
TZNAME:CEST
DTSTART:20230326T010000
END:DAYLIGHT
BEGIN:STANDARD
TZOFFSETFROM:+0200
TZOFFSETTO:+0100
TZNAME:CET
DTSTART:20231029T010000
END:STANDARD
BEGIN:DAYLIGHT
TZOFFSETFROM:+0100
TZOFFSETTO:+0200
TZNAME:CEST
DTSTART:20240331T010000
END:DAYLIGHT
BEGIN:STANDARD
TZOFFSETFROM:+0200
TZOFFSETTO:+0100
TZNAME:CET
DTSTART:20241027T010000
END:STANDARD
BEGIN:DAYLIGHT
TZOFFSETFROM:+0100
TZOFFSETTO:+0200
TZNAME:CEST
DTSTART:20250330T010000
END:DAYLIGHT
BEGIN:STANDARD
TZOFFSETFROM:+0200
TZOFFSETTO:+0100
TZNAME:CET
DTSTART:20251026T010000
END:STANDARD
END:VTIMEZONE
BEGIN:VEVENT
DTSTART;TZID=UTC:20241204T190000
DTEND;TZID=UTC:20241204T210000
DTSTAMP:20260421T165152
CREATED:20241113T103814Z
LAST-MODIFIED:20241129T102720Z
UID:24652-1733338800-1733346000@gemenskap.se
SUMMARY:GKL Styrelse möte
DESCRIPTION:
URL:https://gemenskap.se/event/gkl-styrelse-mote/
LOCATION:Zoom
END:VEVENT
BEGIN:VEVENT
DTSTART;TZID=Europe/Paris:20241120T190000
DTEND;TZID=Europe/Paris:20241120T200000
DTSTAMP:20260421T165152
CREATED:20241113T103711Z
LAST-MODIFIED:20241113T103711Z
UID:24649-1732129200-1732132800@gemenskap.se
SUMMARY:Webinar med James Martin
DESCRIPTION:Seminarium med James Martin SJ om hbtqi i kyrkan \nJesuitprästen James Martin har för sitt arbete med hbtqi-frågorna inte bara fått ett internationellt genomslag utan också påvens stöd. Utöver sitt pastorala arbete är han även redaktör vid America Media och författare till flera katolska bestsellers som ”Söka och finna Gud i allt” och “Building a Bridge”. \nJames Martin gästar oss via storskärm på Studieförbundet Bilda och böcker av honom kommer att finnas till försäljning.\nEfter seminariet är alla inbjudna att stanna för samtal med enkel förtäring och dryck. \nSamtalet med James Martin blir på engelska.\nVARMT VÄLKOMNA!
URL:https://gemenskap.se/event/webinar-med-james-martin/
LOCATION:Bilda Öst Stockholm Rosenlundsgatan 13 11853 STOCKHOLM
END:VEVENT
BEGIN:VEVENT
DTSTART;TZID=UTC:20241118T190000
DTEND;TZID=UTC:20241118T200000
DTSTAMP:20260421T165152
CREATED:20241113T103017Z
LAST-MODIFIED:20241113T103017Z
UID:24646-1731956400-1731960000@gemenskap.se
SUMMARY:Prayer for COP 29
DESCRIPTION:Gemensam bön med hela CLC.
URL:https://gemenskap.se/event/prayer-for-cop-29/
LOCATION:Zoom
END:VEVENT
BEGIN:VEVENT
DTSTART;TZID=UTC:20241116T160000
DTEND;TZID=UTC:20241116T183000
DTSTAMP:20260421T165152
CREATED:20241113T102722Z
LAST-MODIFIED:20241113T102722Z
UID:24643-1731772800-1731781800@gemenskap.se
SUMMARY:Möte GKL styrelse med andra länder inom Eurolink
DESCRIPTION:
URL:https://gemenskap.se/event/mote-gkl-styrelse-med-andra-lander-inom-eurolink/
LOCATION:Zoom
END:VEVENT
BEGIN:VEVENT
DTSTART;TZID=UTC:20241113T190000
DTEND;TZID=UTC:20241113T203000
DTSTAMP:20260421T165152
CREATED:20241112T140753Z
LAST-MODIFIED:20241112T140826Z
UID:24634-1731524400-1731529800@gemenskap.se
SUMMARY:Medlemsträff
DESCRIPTION:
URL:https://gemenskap.se/event/medlemsmote/
LOCATION:Sankta Eugenia Församling\, Stockholm
END:VEVENT
END:VCALENDAR