BEGIN:VCALENDAR
VERSION:2.0
PRODID:-//Gemenskap i Kristet Liv - ECPv6.15.20//NONSGML v1.0//EN
CALSCALE:GREGORIAN
METHOD:PUBLISH
X-WR-CALNAME:Gemenskap i Kristet Liv
X-ORIGINAL-URL:https://gemenskap.se
X-WR-CALDESC:Händelser för Gemenskap i Kristet Liv
REFRESH-INTERVAL;VALUE=DURATION:PT1H
X-Robots-Tag:noindex
X-PUBLISHED-TTL:PT1H
BEGIN:VTIMEZONE
TZID:UTC
BEGIN:STANDARD
TZOFFSETFROM:+0000
TZOFFSETTO:+0000
TZNAME:UTC
DTSTART:20240101T000000
END:STANDARD
END:VTIMEZONE
BEGIN:VEVENT
DTSTART;TZID=UTC:20250926T190000
DTEND;TZID=UTC:20250926T210000
DTSTAMP:20260422T021554
CREATED:20250830T162333Z
LAST-MODIFIED:20250830T162333Z
UID:25075-1758913200-1758920400@gemenskap.se
SUMMARY:Styrelsemöte GKL Sverige
DESCRIPTION:
URL:https://gemenskap.se/event/styrelsemote-gkl-sverige/
END:VEVENT
BEGIN:VEVENT
DTSTART;TZID=UTC:20251014T180000
DTEND;TZID=UTC:20251014T200000
DTSTAMP:20260422T021554
CREATED:20250830T162422Z
LAST-MODIFIED:20250830T162422Z
UID:25077-1760464800-1760472000@gemenskap.se
SUMMARY:Möte för Grupp Guider
DESCRIPTION:
URL:https://gemenskap.se/event/mote-for-grupp-guider/
LOCATION:Zoom
END:VEVENT
BEGIN:VEVENT
DTSTART;TZID=UTC:20251027T190000
DTEND;TZID=UTC:20251027T210000
DTSTAMP:20260422T021554
CREATED:20250830T162504Z
LAST-MODIFIED:20250830T162530Z
UID:25079-1761591600-1761598800@gemenskap.se
SUMMARY:GKL styrelse möte
DESCRIPTION:
URL:https://gemenskap.se/event/gkl-styrelse-mote-2/
END:VEVENT
BEGIN:VEVENT
DTSTART;TZID=UTC:20251114T170000
DTEND;TZID=UTC:20251116T150000
DTSTAMP:20260422T021554
CREATED:20250830T160437Z
LAST-MODIFIED:20250830T160437Z
UID:25069-1763139600-1763305200@gemenskap.se
SUMMARY:Höstreträtt 2025
DESCRIPTION:
URL:https://gemenskap.se/event/hostretratt-2025/
LOCATION:Birgittasystrarna\, Djursholm
END:VEVENT
BEGIN:VEVENT
DTSTART;TZID=UTC:20251114T170000
DTEND;TZID=UTC:20251116T150000
DTSTAMP:20260422T021554
CREATED:20250929T194300Z
LAST-MODIFIED:20250929T194300Z
UID:25116-1763139600-1763305200@gemenskap.se
SUMMARY:Höstreträtt för GKL i Sverige
DESCRIPTION:Höstreträtt i Stockholm hos Birgittasystrarna – Gemenskap i Kristet Liv
URL:https://gemenskap.se/event/hostretratt-for-gkl-i-sverige/
LOCATION:Birgittasystrarna\, Djursholm
END:VEVENT
BEGIN:VEVENT
DTSTART;TZID=UTC:20251119T190000
DTEND;TZID=UTC:20251119T203000
DTSTAMP:20260422T021554
CREATED:20251107T111759Z
LAST-MODIFIED:20251107T112554Z
UID:25151-1763578800-1763584200@gemenskap.se
SUMMARY:Var är ljuset i ditt liv?
DESCRIPTION:https://gemenskap.se/inbjudan-till-op…raff-for-nyfikna/
URL:https://gemenskap.se/event/var-ar-ljuset-i-ditt-liv/
END:VEVENT
BEGIN:VEVENT
DTSTART;TZID=UTC:20251127T080000
DTEND;TZID=UTC:20251127T170000
DTSTAMP:20260422T021554
CREATED:20251127T121231Z
LAST-MODIFIED:20251127T121231Z
UID:25173-1764230400-1764262800@gemenskap.se
SUMMARY:Accompanying refugees and migrants with trauma
DESCRIPTION:
URL:https://gemenskap.se/event/accompanying-refugees-and-migrants-with-trauma/
LOCATION:Zoom
END:VEVENT
BEGIN:VEVENT
DTSTART;TZID=UTC:20251127T183000
DTEND;TZID=UTC:20251127T200000
DTSTAMP:20260422T021554
CREATED:20251107T112645Z
LAST-MODIFIED:20251107T112645Z
UID:25160-1764268200-1764273600@gemenskap.se
SUMMARY:GKL Styrelsemöte
DESCRIPTION:
URL:https://gemenskap.se/event/gkl-styrelsemote/
END:VEVENT
BEGIN:VEVENT
DTSTART;TZID=UTC:20251128T180000
DTEND;TZID=UTC:20251128T200000
DTSTAMP:20260422T021554
CREATED:20251128T130744Z
LAST-MODIFIED:20251128T130759Z
UID:25183-1764352800-1764360000@gemenskap.se
SUMMARY:GKL kväll om att urskilja de inre rörelserna
DESCRIPTION:
URL:https://gemenskap.se/event/gkl-kvall-om-att-urskilja-de-inre-rorelserna/
LOCATION:Zoom
END:VEVENT
BEGIN:VEVENT
DTSTART;TZID=UTC:20251202T190000
DTEND;TZID=UTC:20251202T203000
DTSTAMP:20260422T021554
CREATED:20251107T111928Z
LAST-MODIFIED:20251107T112526Z
UID:25153-1764702000-1764707400@gemenskap.se
SUMMARY:Var är ljuset i ditt liv?
DESCRIPTION:https://gemenskap.se/inbjudan-till-op…raff-for-nyfikna/
URL:https://gemenskap.se/event/var-ar-ljuset-i-ditt-liv-2/
LOCATION:Engelsbrektskyrkan\, Östermalmsgatan 20
END:VEVENT
BEGIN:VEVENT
DTSTART;TZID=UTC:20260114T190000
DTEND;TZID=UTC:20260114T203000
DTSTAMP:20260422T021554
CREATED:20260110T081736Z
LAST-MODIFIED:20260110T081744Z
UID:25221-1768417200-1768422600@gemenskap.se
SUMMARY:Var är ljuset i ditt liv?
DESCRIPTION:Se inbjudan: \nInbjudan till öppen GKL-träff för nyfikna
URL:https://gemenskap.se/event/var-ar-ljuset-i-ditt-liv-3/
LOCATION:Engelsbrektskyrkan\, Östermalmsgatan 20
END:VEVENT
BEGIN:VEVENT
DTSTART;TZID=UTC:20260116T183000
DTEND;TZID=UTC:20260116T200000
DTSTAMP:20260422T021554
CREATED:20251207T173230Z
LAST-MODIFIED:20251207T173918Z
UID:25195-1768588200-1768593600@gemenskap.se
SUMMARY:GKL Medlemskväll
DESCRIPTION:Kära GKLare! \nVälkomna till en Medlemskväll i gemenskap med ett av den ignatianska andlighetens grundord i fokus. \nAtt söka och finna Gud i allt. \nFredagen den 16 januari 2026\, kl 18.30- 20.00. \nBrunnsgatan 4 i Gamla stan. \nVi hoppas att så många som möjligt kan närvara\, stärka gemenskapen under samvaro\, delande och lätt förtäring. \n\n\n\n\n\n\n\nStyrelsen \nI Din hand ligger mina dagar. ( Ps 31:16) \n\n\n\n\n— \n\nGemenskap i Kristet Liv   ⋅   www.gemenskap.se
URL:https://gemenskap.se/event/medlemskvall/
LOCATION:JP II på Brunnsgränd 4 i Gamla Stan
END:VEVENT
BEGIN:VEVENT
DTSTART;TZID=UTC:20260120T173000
DTEND;TZID=UTC:20260120T210000
DTSTAMP:20260422T021554
CREATED:20251128T130356Z
LAST-MODIFIED:20251128T130420Z
UID:25179-1768930200-1768942800@gemenskap.se
SUMMARY:GKL styrelse möte
DESCRIPTION:
URL:https://gemenskap.se/event/gkl-styrelse-mote-3/
END:VEVENT
BEGIN:VEVENT
DTSTART;TZID=UTC:20260211T190000
DTEND;TZID=UTC:20260211T203000
DTSTAMP:20260422T021554
CREATED:20260110T081912Z
LAST-MODIFIED:20260110T081912Z
UID:25224-1770836400-1770841800@gemenskap.se
SUMMARY:Var är ljuset i ditt liv?
DESCRIPTION:Se inbjudan: \nInbjudan till öppen GKL-träff för nyfikna
URL:https://gemenskap.se/event/var-ar-ljuset-i-ditt-liv-4/
LOCATION:Engelsbrektskyrkan\, Östermalmsgatan 20
END:VEVENT
BEGIN:VEVENT
DTSTART;TZID=UTC:20260226T183000
DTEND;TZID=UTC:20260226T203000
DTSTAMP:20260422T021554
CREATED:20251128T130604Z
LAST-MODIFIED:20251128T130604Z
UID:25181-1772130600-1772137800@gemenskap.se
SUMMARY:GKL styrelse möte
DESCRIPTION:
URL:https://gemenskap.se/event/gkl-styrelse-mote-4/
END:VEVENT
BEGIN:VEVENT
DTSTART;TZID=UTC:20260325T190000
DTEND;TZID=UTC:20260325T203000
DTSTAMP:20260422T021554
CREATED:20260110T082001Z
LAST-MODIFIED:20260110T082001Z
UID:25226-1774465200-1774470600@gemenskap.se
SUMMARY:Var är ljuset i ditt liv?
DESCRIPTION:Se inbjudan: \nInbjudan till öppen GKL-träff för nyfikna
URL:https://gemenskap.se/event/var-ar-ljuset-i-ditt-liv-5/
LOCATION:Engelsbrektskyrkan\, Östermalmsgatan 20
END:VEVENT
BEGIN:VEVENT
DTSTART;TZID=UTC:20260328T150000
DTEND;TZID=UTC:20260328T170000
DTSTAMP:20260422T021554
CREATED:20251207T173001Z
LAST-MODIFIED:20260314T184943Z
UID:25192-1774710000-1774717200@gemenskap.se
SUMMARY:GKL dagen
DESCRIPTION:Se: https://gemenskap.se/gkl-dagen-2026/
URL:https://gemenskap.se/event/gkl-dagen-2/
LOCATION:Josefinahemmet
END:VEVENT
BEGIN:VEVENT
DTSTART;TZID=UTC:20260331T183000
DTEND;TZID=UTC:20260331T203000
DTSTAMP:20260422T021554
CREATED:20251128T130851Z
LAST-MODIFIED:20251128T130851Z
UID:25185-1774981800-1774989000@gemenskap.se
SUMMARY:GKL styrelsemöte
DESCRIPTION:
URL:https://gemenskap.se/event/gkl-styrelsemote-2/
END:VEVENT
BEGIN:VEVENT
DTSTART;TZID=UTC:20260422T190000
DTEND;TZID=UTC:20260422T203000
DTSTAMP:20260422T021554
CREATED:20260110T082044Z
LAST-MODIFIED:20260110T082044Z
UID:25228-1776884400-1776889800@gemenskap.se
SUMMARY:Var är ljuset i ditt liv?
DESCRIPTION:Se inbjudan: \nInbjudan till öppen GKL-träff för nyfikna
URL:https://gemenskap.se/event/var-ar-ljuset-i-ditt-liv-6/
LOCATION:Engelsbrektskyrkan\, Östermalmsgatan 20
END:VEVENT
BEGIN:VEVENT
DTSTART;TZID=UTC:20260423T180000
DTEND;TZID=UTC:20260423T200000
DTSTAMP:20260422T021554
CREATED:20251128T131007Z
LAST-MODIFIED:20251128T131007Z
UID:25187-1776967200-1776974400@gemenskap.se
SUMMARY:GKL Årsmöte
DESCRIPTION:
URL:https://gemenskap.se/event/gkl-arsmote/
END:VEVENT
BEGIN:VEVENT
DTSTART;TZID=UTC:20260501T080000
DTEND;TZID=UTC:20260503T170000
DTSTAMP:20260422T021554
CREATED:20260419T172601Z
LAST-MODIFIED:20260419T172601Z
UID:25291-1777622400-1777827600@gemenskap.se
SUMMARY:Introduktion till Andliga Övningar
DESCRIPTION:
URL:https://gemenskap.se/event/introduktion-till-andliga-ovningar/
END:VEVENT
BEGIN:VEVENT
DTSTART;TZID=UTC:20260527T183000
DTEND;TZID=UTC:20260527T203000
DTSTAMP:20260422T021554
CREATED:20251128T131059Z
LAST-MODIFIED:20251128T131059Z
UID:25189-1779906600-1779913800@gemenskap.se
SUMMARY:GKL styrelsemöte
DESCRIPTION:
URL:https://gemenskap.se/event/gkl-styrelsemote-3/
END:VEVENT
BEGIN:VEVENT
DTSTART;TZID=UTC:20260828T080000
DTEND;TZID=UTC:20260830T170000
DTSTAMP:20260422T021554
CREATED:20260419T172743Z
LAST-MODIFIED:20260419T172743Z
UID:25293-1787904000-1788109200@gemenskap.se
SUMMARY:Styrelse/Formationshelg
DESCRIPTION:
URL:https://gemenskap.se/event/styrelse-formationshelg/
END:VEVENT
BEGIN:VEVENT
DTSTART;TZID=UTC:20260912T080000
DTEND;TZID=UTC:20260912T170000
DTSTAMP:20260422T021554
CREATED:20260419T172827Z
LAST-MODIFIED:20260419T173031Z
UID:25295-1789200000-1789232400@gemenskap.se
SUMMARY:Reträttdag
DESCRIPTION:
URL:https://gemenskap.se/event/retrattdag/
END:VEVENT
BEGIN:VEVENT
DTSTART;TZID=UTC:20261030T080000
DTEND;TZID=UTC:20261101T170000
DTSTAMP:20260422T021554
CREATED:20260419T173125Z
LAST-MODIFIED:20260419T173125Z
UID:25297-1793347200-1793552400@gemenskap.se
SUMMARY:Gemenskapshelg
DESCRIPTION:
URL:https://gemenskap.se/event/gemenskapshelg/
END:VEVENT
BEGIN:VEVENT
DTSTART;TZID=UTC:20261118T190000
DTEND;TZID=UTC:20261118T190000
DTSTAMP:20260422T021554
CREATED:20260419T173254Z
LAST-MODIFIED:20260419T173411Z
UID:25301-1795028400-1795028400@gemenskap.se
SUMMARY:Zoomkväll om Examen
DESCRIPTION:KVällen är ledd av Andreas Carlgren
URL:https://gemenskap.se/event/zoomkvall-om-examen/
END:VEVENT
END:VCALENDAR