BEGIN:VCALENDAR
VERSION:2.0
PRODID:-//Gemenskap i Kristet Liv - ECPv6.15.20//NONSGML v1.0//EN
CALSCALE:GREGORIAN
METHOD:PUBLISH
X-WR-CALNAME:Gemenskap i Kristet Liv
X-ORIGINAL-URL:https://gemenskap.se
X-WR-CALDESC:Händelser för Gemenskap i Kristet Liv
REFRESH-INTERVAL;VALUE=DURATION:PT1H
X-Robots-Tag:noindex
X-PUBLISHED-TTL:PT1H
BEGIN:VTIMEZONE
TZID:UTC
BEGIN:STANDARD
TZOFFSETFROM:+0000
TZOFFSETTO:+0000
TZNAME:UTC
DTSTART:20250101T000000
END:STANDARD
END:VTIMEZONE
BEGIN:VEVENT
DTSTART;TZID=UTC:20260116T183000
DTEND;TZID=UTC:20260116T200000
DTSTAMP:20260421T180711
CREATED:20251207T173230Z
LAST-MODIFIED:20251207T173918Z
UID:25195-1768588200-1768593600@gemenskap.se
SUMMARY:GKL Medlemskväll
DESCRIPTION:Kära GKLare! \nVälkomna till en Medlemskväll i gemenskap med ett av den ignatianska andlighetens grundord i fokus. \nAtt söka och finna Gud i allt. \nFredagen den 16 januari 2026\, kl 18.30- 20.00. \nBrunnsgatan 4 i Gamla stan. \nVi hoppas att så många som möjligt kan närvara\, stärka gemenskapen under samvaro\, delande och lätt förtäring. \n\n\n\n\n\n\n\nStyrelsen \nI Din hand ligger mina dagar. ( Ps 31:16) \n\n\n\n\n— \n\nGemenskap i Kristet Liv   ⋅   www.gemenskap.se
URL:https://gemenskap.se/event/medlemskvall/
LOCATION:JP II på Brunnsgränd 4 i Gamla Stan
END:VEVENT
END:VCALENDAR