BEGIN:VCALENDAR
VERSION:2.0
PRODID:-//Gemenskap i Kristet Liv - ECPv6.15.20//NONSGML v1.0//EN
CALSCALE:GREGORIAN
METHOD:PUBLISH
X-ORIGINAL-URL:https://gemenskap.se
X-WR-CALDESC:Händelser för Gemenskap i Kristet Liv
REFRESH-INTERVAL;VALUE=DURATION:PT1H
X-Robots-Tag:noindex
X-PUBLISHED-TTL:PT1H
BEGIN:VTIMEZONE
TZID:UTC
BEGIN:STANDARD
TZOFFSETFROM:+0000
TZOFFSETTO:+0000
TZNAME:UTC
DTSTART:20240101T000000
END:STANDARD
END:VTIMEZONE
BEGIN:VEVENT
DTSTART;TZID=UTC:20251014T180000
DTEND;TZID=UTC:20251014T200000
DTSTAMP:20260421T231924
CREATED:20250830T162422Z
LAST-MODIFIED:20250830T162422Z
UID:25077-1760464800-1760472000@gemenskap.se
SUMMARY:Möte för Grupp Guider
DESCRIPTION:
URL:https://gemenskap.se/event/mote-for-grupp-guider/
LOCATION:Zoom
END:VEVENT
END:VCALENDAR