BEGIN:VCALENDAR
VERSION:2.0
PRODID:-//Gemenskap i Kristet Liv - ECPv6.15.20//NONSGML v1.0//EN
CALSCALE:GREGORIAN
METHOD:PUBLISH
X-WR-CALNAME:Gemenskap i Kristet Liv
X-ORIGINAL-URL:https://gemenskap.se
X-WR-CALDESC:Händelser för Gemenskap i Kristet Liv
REFRESH-INTERVAL;VALUE=DURATION:PT1H
X-Robots-Tag:noindex
X-PUBLISHED-TTL:PT1H
BEGIN:VTIMEZONE
TZID:UTC
BEGIN:STANDARD
TZOFFSETFROM:+0000
TZOFFSETTO:+0000
TZNAME:UTC
DTSTART:20240101T000000
END:STANDARD
END:VTIMEZONE
BEGIN:VEVENT
DTSTART;TZID=UTC:20250528T080000
DTEND;TZID=UTC:20250601T170000
DTSTAMP:20260422T052640
CREATED:20250215T135502Z
LAST-MODIFIED:20250215T135502Z
UID:24740-1748419200-1748797200@gemenskap.se
SUMMARY:Europeiskt möte i Chemnitz\, Tyskland
DESCRIPTION:Flyer Chemnitz englisch 2 \n 
URL:https://gemenskap.se/event/europeiskt-mote-i-chemnitz-tyskland/
END:VEVENT
END:VCALENDAR