BEGIN:VCALENDAR
VERSION:2.0
PRODID:-//Gemenskap i Kristet Liv - ECPv6.15.20//NONSGML v1.0//EN
CALSCALE:GREGORIAN
METHOD:PUBLISH
X-ORIGINAL-URL:https://gemenskap.se
X-WR-CALDESC:Händelser för Gemenskap i Kristet Liv
REFRESH-INTERVAL;VALUE=DURATION:PT1H
X-Robots-Tag:noindex
X-PUBLISHED-TTL:PT1H
BEGIN:VTIMEZONE
TZID:UTC
BEGIN:STANDARD
TZOFFSETFROM:+0000
TZOFFSETTO:+0000
TZNAME:UTC
DTSTART:20240101T000000
END:STANDARD
END:VTIMEZONE
BEGIN:VEVENT
DTSTART;TZID=UTC:20250325T150000
DTEND;TZID=UTC:20250325T160000
DTSTAMP:20260422T095605
CREATED:20250215T142557Z
LAST-MODIFIED:20250215T142857Z
UID:24757-1742914800-1742918400@gemenskap.se
SUMMARY:CLC day
DESCRIPTION:Dear friends:\n\nOn March 25th\, the feast of the Annunciation\, CLC celebrates its day every year. As we have been doing in recent years\, we want to unite as a world community and celebrate and pray together on our day. We invite you to meet us on Saturday 22nd March at 15:00 CET (Central European Time) (duration 40 minutes).\n\nThis year\, the prayer has been prepared by the CLC communities in North America Region. We thank them for their generosity and their time to help us join in prayer.\n\nThe prayer will be available in the three official languages of CLC and can be followed at the CLC Youtube Channel:  https://www.youtube.com/@cvxclc7673/videos\n\nIn the days leading up to our community prayer we will share with you the details so that you can prepare and live it in community.\n\nWe ask you to extend this invitation to the entire community in your country through social media and email.\n\nUnited in prayer\,
URL:https://gemenskap.se/event/clc-day/
END:VEVENT
END:VCALENDAR